Workbook

Sheet About This Model
B2: Sports League Table Spreadsheet - About this Model
B5: Assumptions/Model Rules
B7: - This model assumes that there are 10 Teams in a Sports League.
B8: - The model also assumes that fixtures will be held between two teams at a time.
B9: - During the season, each team will play each other twice, once at home and once away.
B12: - The model follows a 3 step approach:
B13: 1. Apply values to the Rules tab.
B14: 2. List the 10 Teams in the Teams tab.
B15: 3. Apply Dates/Times (if you are able), as well as scores to the fixtures shown in the Fixtures tab.
B17: - As the user updates the scores, the League Table Output also updates, so you can gauge League Position at any point in the Season.
B18: - The data on the Fixtures tab can be filtered and sorted (by date, for example) without affecting the generation of league positions.
B19: - League positions are primarily decided by points but if a team has the same points as another, then Goal Difference is the deciding factor.
... B23: Dave The Spreadsheet Guy - 2020

Sheet Input 1 - Rules
B2: League Table Rules
C5: Points for a Win
C7: Points for a Draw
C9: Points for a Loss

Sheet Input 2 - Teams
C2: League Teams
C4: Team Name
B5: Team A
B6: Team B
B7: Team C
B8: Team D
B9: Team E
B10: Team F
B11: Team G
B12: Team H
B13: Team I
B14: Team J

Sheet Input 3 - Fixtures
B2: League Fixtures
B4: Fixture Date | C4: Fixture Time | E4: Home Team | F4: Score | H4: Score | J4: Away Team
D5: Team A | E5: =IF('Input 2 - Teams'!$C$5="","",IF(ISNA(VLOOKUP(D5,'Input 2 - Teams'!$B$5:$C$14,2,FALSE))=TRUE,"",VLOOKUP(D5,'Input 2 - Teams'!$B$5:$C$14,2,FALSE))) | G5: =IF(E5="","","v") | I5: Team B | J5: =IF('Input 2 - Teams'!$C$5="","",IF(ISNA(VLOOKUP(I5,'Input 2 - Teams'!$B$5:$C$14,2,FALSE))=TRUE,"",VLOOKUP(I5,'Input 2 - Teams'!$B$5:$C$14,2,FALSE)))
D6: Team C | E6: =IF('Input 2 - Teams'!$C$5="","",IF(ISNA(VLOOKUP(D6,'Input 2 - Teams'!$B$5:$C$14,2,FALSE))=TRUE,"",VLOOKUP(D6,'Input 2 - Teams'!$B$5:$C$14,2,FALSE))) | G6: =IF(E6="","","v") | I6: Team I | J6: =IF('Input 2 - Teams'!$C$5="","",IF(ISNA(VLOOKUP(I6,'Input 2 - Teams'!$B$5:$C$14,2,FALSE))=TRUE,"",VLOOKUP(I6,'Input 2 - Teams'!$B$5:$C$14,2,FALSE)))
D7: Team D | E7: =IF('Input 2 - Teams'!$C$5="","",IF(ISNA(VLOOKUP(D7,'Input 2 - Teams'!$B$5:$C$14,2,FALSE))=TRUE,"",VLOOKUP(D7,'Input 2 - Teams'!$B$5:$C$14,2,FALSE))) | G7: =IF(E7="","","v") | I7: Team H | J7: =IF('Input 2 - Teams'!$C$5="","",IF(ISNA(VLOOKUP(I7,'Input 2 - Teams'!$B$5:$C$14,2,FALSE))=TRUE,"",VLOOKUP(I7,'Input 2 - Teams'!$B$5:$C$14,2,FALSE)))
D8: Team E | E8: =IF('Input 2 - Teams'!$C$5="","",IF(ISNA(VLOOKUP(D8,'Input 2 - Teams'!$B$5:$C$14,2,FALSE))=TRUE,"",VLOOKUP(D8,'Input 2 - Teams'!$B$5:$C$14,2,FALSE))) | G8: =IF(E8="","","v") | I8: Team G | J8: =IF('Input 2 - Teams'!$C$5="","",IF(ISNA(VLOOKUP(I8,'Input 2 - Teams'!$B$5:$C$14,2,FALSE))=TRUE,"",VLOOKUP(I8,'Input 2 - Teams'!$B$5:$C$14,2,FALSE)))
D9: Team F | E9: =IF('Input 2 - Teams'!$C$5="","",IF(ISNA(VLOOKUP(D9,'Input 2 - Teams'!$B$5:$C$14,2,FALSE))=TRUE,"",VLOOKUP(D9,'Input 2 - Teams'!$B$5:$C$14,2,FALSE))) | G9: =IF(E9="","","v") | I9: Team J | J9: =IF('Input 2 - Teams'!$C$5="","",IF(ISNA(VLOOKUP(I9,'Input 2 - Teams'!$B$5:$C$14,2,FALSE))=TRUE,"",VLOOKUP(I9,'Input 2 - Teams'!$B$5:$C$14,2,FALSE)))
D10: Team J | E10: =IF('Input 2 - Teams'!$C$5="","",IF(ISNA(VLOOKUP(D10,'Input 2 - Teams'!$B$5:$C$14,2,FALSE))=TRUE,"",VLOOKUP(D10,'Input 2 - Teams'!$B$5:$C$14,2,FALSE))) | G10: =IF(E10="","","v") | I10: Team A | J10: =IF('Input 2 - Teams'!$C$5="","",IF(ISNA(VLOOKUP(I10,'Input 2 - Teams'!$B$5:$C$14,2,FALSE))=TRUE,"",VLOOKUP(I10,'Input 2 - Teams'!$B$5:$C$14,2,FALSE)))
D11: Team I | E11: =IF('Input 2 - Teams'!$C$5="","",IF(ISNA(VLOOKUP(D11,'Input 2 - Teams'!$B$5:$C$14,2,FALSE))=TRUE,"",VLOOKUP(D11,'Input 2 - Teams'!$B$5:$C$14,2,FALSE))) | G11: =IF(E11="","","v") | I11: Team B | J11: =IF('Input 2 - Teams'!$C$5="","",IF(ISNA(VLOOKUP(I11,'Input 2 - Teams'!$B$5:$C$14,2,FALSE))=TRUE,"",VLOOKUP(I11,'Input 2 - Teams'!$B$5:$C$14,2,FALSE)))
D12: Team H | E12: =IF('Input 2 - Teams'!$C$5="","",IF(ISNA(VLOOKUP(D12,'Input 2 - Teams'!$B$5:$C$14,2,FALSE))=TRUE,"",VLOOKUP(D12,'Input 2 - Teams'!$B$5:$C$14,2,FALSE))) | G12: =IF(E12="","","v") | I12: Team C | J12: =IF('Input 2 - Teams'!$C$5="","",IF(ISNA(VLOOKUP(I12,'Input 2 - Teams'!$B$5:$C$14,2,FALSE))=TRUE,"",VLOOKUP(I12,'Input 2 - Teams'!$B$5:$C$14,2,FALSE)))
D13: Team G | E13: =IF('Input 2 - Teams'!$C$5="","",IF(ISNA(VLOOKUP(D13,'Input 2 - Teams'!$B$5:$C$14,2,FALSE))=TRUE,"",VLOOKUP(D13,'Input 2 - Teams'!$B$5:$C$14,2,FALSE))) | G13: =IF(E13="","","v") | I13: Team D | J13: =IF('Input 2 - Teams'!$C$5="","",IF(ISNA(VLOOKUP(I13,'Input 2 - Teams'!$B$5:$C$14,2,FALSE))=TRUE,"",VLOOKUP(I13,'Input 2 - Teams'!$B$5:$C$14,2,FALSE)))
D14: Team F | E14: =IF('Input 2 - Teams'!$C$5="","",IF(ISNA(VLOOKUP(D14,'Input 2 - Teams'!$B$5:$C$14,2,FALSE))=TRUE,"",VLOOKUP(D14,'Input 2 - Teams'!$B$5:$C$14,2,FALSE))) | G14: =IF(E14="","","v") | I14: Team E | J14: =IF('Input 2 - Teams'!$C$5="","",IF(ISNA(VLOOKUP(I14,'Input 2 - Teams'!$B$5:$C$14,2,FALSE))=TRUE,"",VLOOKUP(I14,'Input 2 - Teams'!$B$5:$C$14,2,FALSE)))
D15: Team A | E15: =IF('Input 2 - Teams'!$C$5="","",IF(ISNA(VLOOKUP(D15,'Input 2 - Teams'!$B$5:$C$14,2,FALSE))=TRUE,"",VLOOKUP(D15,'Input 2 - Teams'!$B$5:$C$14,2,FALSE))) | G15: =IF(E15="","","v") | I15: Team C | J15: =IF('Input 2 - Teams'!$C$5="","",IF(ISNA(VLOOKUP(I15,'Input 2 - Teams'!$B$5:$C$14,2,FALSE))=TRUE,"",VLOOKUP(I15,'Input 2 - Teams'!$B$5:$C$14,2,FALSE)))
D16: Team B | E16: =IF('Input 2 - Teams'!$C$5="","",IF(ISNA(VLOOKUP(D16,'Input 2 - Teams'!$B$5:$C$14,2,FALSE))=TRUE,"",VLOOKUP(D16,'Input 2 - Teams'!$B$5:$C$14,2,FALSE))) | G16: =IF(E16="","","v") | I16: Team J | J16: =IF('Input 2 - Teams'!$C$5="","",IF(ISNA(VLOOKUP(I16,'Input 2 - Teams'!$B$5:$C$14,2,FALSE))=TRUE,"",VLOOKUP(I16,'Input 2 - Teams'!$B$5:$C$14,2,FALSE)))
... D94: Team J | E94: =IF('Input 2 - Teams'!$C$5="","",IF(ISNA(VLOOKUP(D94,'Input 2 - Teams'!$B$5:$C$14,2,FALSE))=TRUE,"",VLOOKUP(D94,'Input 2 - Teams'!$B$5:$C$14,2,FALSE))) | G94: =IF(E94="","","v") | I94: Team F | J94: =IF('Input 2 - Teams'!$C$5="","",IF(ISNA(VLOOKUP(I94,'Input 2 - Teams'!$B$5:$C$14,2,FALSE))=TRUE,"",VLOOKUP(I94,'Input 2 - Teams'!$B$5:$C$14,2,FALSE)))

Sheet Calculation 1 - L Tbl Data
B2: League Fixture Data
B4: Home Team | C4: Home Team Score | D4: Away Team | E4: Away Team Score | F4: Home Win | G4: Home Loss | H4: Away Win | I4: Away Loss | J4: Draw | K4: Home Goals | L4: Away Goals | M4: Home Points | N4: Away Points
B5: ='Input 3 - Fixtures'!E5 | C5: =IF('Input 3 - Fixtures'!F5="","",'Input 3 - Fixtures'!F5) | D5: ='Input 3 - Fixtures'!J5 | E5: =IF('Input 3 - Fixtures'!H5="","",'Input 3 - Fixtures'!H5) | F5: =IF(OR(C5="",E5=""),"",IF(C5>E5,1,0)) | G5: =IF(OR(C5="",E5=""),"",IF(E5>C5,1,0)) | H5: =IF(OR(C5="",E5=""),"",IF(E5>C5,1,0)) | I5: =IF(OR(C5="",E5=""),"",IF(C5>E5,1,0)) | J5: =IF(OR(C5="",E5=""),"",IF(C5=E5,1,0)) | K5: =IF(C5="","",C5) | L5: =IF(E5="","",E5) | M5: =IF(OR(F5="",G5="",J5=""),"",IF(F5=1,'Input 1 - Rules'!$D$5,IF('Calculation 1 - L Tbl Data'!J5=1,'Input 1 - Rules'!$D$7,'Input 1 - Rules'!$D$9))) | N5: =IF(OR(H5="",I5="",J5=""),"",IF(H5=1,'Input 1 - Rules'!$D$5,IF('Calculation 1 - L Tbl Data'!J5=1,'Input 1 - Rules'!$D$7,'Input 1 - Rules'!$D$9)))
B6: ='Input 3 - Fixtures'!E6 | C6: =IF('Input 3 - Fixtures'!F6="","",'Input 3 - Fixtures'!F6) | D6: ='Input 3 - Fixtures'!J6 | E6: =IF('Input 3 - Fixtures'!H6="","",'Input 3 - Fixtures'!H6) | F6: =IF(OR(C6="",E6=""),"",IF(C6>E6,1,0)) | G6: =IF(OR(C6="",E6=""),"",IF(E6>C6,1,0)) | H6: =IF(OR(C6="",E6=""),"",IF(E6>C6,1,0)) | I6: =IF(OR(C6="",E6=""),"",IF(C6>E6,1,0)) | J6: =IF(OR(C6="",E6=""),"",IF(C6=E6,1,0)) | K6: =IF(C6="","",C6) | L6: =IF(E6="","",E6) | M6: =IF(OR(F6="",G6="",J6=""),"",IF(F6=1,'Input 1 - Rules'!$D$5,IF('Calculation 1 - L Tbl Data'!J6=1,'Input 1 - Rules'!$D$7,'Input 1 - Rules'!$D$9))) | N6: =IF(OR(H6="",I6="",J6=""),"",IF(H6=1,'Input 1 - Rules'!$D$5,IF('Calculation 1 - L Tbl Data'!J6=1,'Input 1 - Rules'!$D$7,'Input 1 - Rules'!$D$9)))
B7: ='Input 3 - Fixtures'!E7 | C7: =IF('Input 3 - Fixtures'!F7="","",'Input 3 - Fixtures'!F7) | D7: ='Input 3 - Fixtures'!J7 | E7: =IF('Input 3 - Fixtures'!H7="","",'Input 3 - Fixtures'!H7) | F7: =IF(OR(C7="",E7=""),"",IF(C7>E7,1,0)) | G7: =IF(OR(C7="",E7=""),"",IF(E7>C7,1,0)) | H7: =IF(OR(C7="",E7=""),"",IF(E7>C7,1,0)) | I7: =IF(OR(C7="",E7=""),"",IF(C7>E7,1,0)) | J7: =IF(OR(C7="",E7=""),"",IF(C7=E7,1,0)) | K7: =IF(C7="","",C7) | L7: =IF(E7="","",E7) | M7: =IF(OR(F7="",G7="",J7=""),"",IF(F7=1,'Input 1 - Rules'!$D$5,IF('Calculation 1 - L Tbl Data'!J7=1,'Input 1 - Rules'!$D$7,'Input 1 - Rules'!$D$9))) | N7: =IF(OR(H7="",I7="",J7=""),"",IF(H7=1,'Input 1 - Rules'!$D$5,IF('Calculation 1 - L Tbl Data'!J7=1,'Input 1 - Rules'!$D$7,'Input 1 - Rules'!$D$9)))
B8: ='Input 3 - Fixtures'!E8 | C8: =IF('Input 3 - Fixtures'!F8="","",'Input 3 - Fixtures'!F8) | D8: ='Input 3 - Fixtures'!J8 | E8: =IF('Input 3 - Fixtures'!H8="","",'Input 3 - Fixtures'!H8) | F8: =IF(OR(C8="",E8=""),"",IF(C8>E8,1,0)) | G8: =IF(OR(C8="",E8=""),"",IF(E8>C8,1,0)) | H8: =IF(OR(C8="",E8=""),"",IF(E8>C8,1,0)) | I8: =IF(OR(C8="",E8=""),"",IF(C8>E8,1,0)) | J8: =IF(OR(C8="",E8=""),"",IF(C8=E8,1,0)) | K8: =IF(C8="","",C8) | L8: =IF(E8="","",E8) | M8: =IF(OR(F8="",G8="",J8=""),"",IF(F8=1,'Input 1 - Rules'!$D$5,IF('Calculation 1 - L Tbl Data'!J8=1,'Input 1 - Rules'!$D$7,'Input 1 - Rules'!$D$9))) | N8: =IF(OR(H8="",I8="",J8=""),"",IF(H8=1,'Input 1 - Rules'!$D$5,IF('Calculation 1 - L Tbl Data'!J8=1,'Input 1 - Rules'!$D$7,'Input 1 - Rules'!$D$9)))
B9: ='Input 3 - Fixtures'!E9 | C9: =IF('Input 3 - Fixtures'!F9="","",'Input 3 - Fixtures'!F9) | D9: ='Input 3 - Fixtures'!J9 | E9: =IF('Input 3 - Fixtures'!H9="","",'Input 3 - Fixtures'!H9) | F9: =IF(OR(C9="",E9=""),"",IF(C9>E9,1,0)) | G9: =IF(OR(C9="",E9=""),"",IF(E9>C9,1,0)) | H9: =IF(OR(C9="",E9=""),"",IF(E9>C9,1,0)) | I9: =IF(OR(C9="",E9=""),"",IF(C9>E9,1,0)) | J9: =IF(OR(C9="",E9=""),"",IF(C9=E9,1,0)) | K9: =IF(C9="","",C9) | L9: =IF(E9="","",E9) | M9: =IF(OR(F9="",G9="",J9=""),"",IF(F9=1,'Input 1 - Rules'!$D$5,IF('Calculation 1 - L Tbl Data'!J9=1,'Input 1 - Rules'!$D$7,'Input 1 - Rules'!$D$9))) | N9: =IF(OR(H9="",I9="",J9=""),"",IF(H9=1,'Input 1 - Rules'!$D$5,IF('Calculation 1 - L Tbl Data'!J9=1,'Input 1 - Rules'!$D$7,'Input 1 - Rules'!$D$9)))
B10: ='Input 3 - Fixtures'!E10 | C10: =IF('Input 3 - Fixtures'!F10="","",'Input 3 - Fixtures'!F10) | D10: ='Input 3 - Fixtures'!J10 | E10: =IF('Input 3 - Fixtures'!H10="","",'Input 3 - Fixtures'!H10) | F10: =IF(OR(C10="",E10=""),"",IF(C10>E10,1,0)) | G10: =IF(OR(C10="",E10=""),"",IF(E10>C10,1,0)) | H10: =IF(OR(C10="",E10=""),"",IF(E10>C10,1,0)) | I10: =IF(OR(C10="",E10=""),"",IF(C10>E10,1,0)) | J10: =IF(OR(C10="",E10=""),"",IF(C10=E10,1,0)) | K10: =IF(C10="","",C10) | L10: =IF(E10="","",E10) | M10: =IF(OR(F10="",G10="",J10=""),"",IF(F10=1,'Input 1 - Rules'!$D$5,IF('Calculation 1 - L Tbl Data'!J10=1,'Input 1 - Rules'!$D$7,'Input 1 - Rules'!$D$9))) | N10: =IF(OR(H10="",I10="",J10=""),"",IF(H10=1,'Input 1 - Rules'!$D$5,IF('Calculation 1 - L Tbl Data'!J10=1,'Input 1 - Rules'!$D$7,'Input 1 - Rules'!$D$9)))
B11: ='Input 3 - Fixtures'!E11 | C11: =IF('Input 3 - Fixtures'!F11="","",'Input 3 - Fixtures'!F11) | D11: ='Input 3 - Fixtures'!J11 | E11: =IF('Input 3 - Fixtures'!H11="","",'Input 3 - Fixtures'!H11) | F11: =IF(OR(C11="",E11=""),"",IF(C11>E11,1,0)) | G11: =IF(OR(C11="",E11=""),"",IF(E11>C11,1,0)) | H11: =IF(OR(C11="",E11=""),"",IF(E11>C11,1,0)) | I11: =IF(OR(C11="",E11=""),"",IF(C11>E11,1,0)) | J11: =IF(OR(C11="",E11=""),"",IF(C11=E11,1,0)) | K11: =IF(C11="","",C11) | L11: =IF(E11="","",E11) | M11: =IF(OR(F11="",G11="",J11=""),"",IF(F11=1,'Input 1 - Rules'!$D$5,IF('Calculation 1 - L Tbl Data'!J11=1,'Input 1 - Rules'!$D$7,'Input 1 - Rules'!$D$9))) | N11: =IF(OR(H11="",I11="",J11=""),"",IF(H11=1,'Input 1 - Rules'!$D$5,IF('Calculation 1 - L Tbl Data'!J11=1,'Input 1 - Rules'!$D$7,'Input 1 - Rules'!$D$9)))
B12: ='Input 3 - Fixtures'!E12 | C12: =IF('Input 3 - Fixtures'!F12="","",'Input 3 - Fixtures'!F12) | D12: ='Input 3 - Fixtures'!J12 | E12: =IF('Input 3 - Fixtures'!H12="","",'Input 3 - Fixtures'!H12) | F12: =IF(OR(C12="",E12=""),"",IF(C12>E12,1,0)) | G12: =IF(OR(C12="",E12=""),"",IF(E12>C12,1,0)) | H12: =IF(OR(C12="",E12=""),"",IF(E12>C12,1,0)) | I12: =IF(OR(C12="",E12=""),"",IF(C12>E12,1,0)) | J12: =IF(OR(C12="",E12=""),"",IF(C12=E12,1,0)) | K12: =IF(C12="","",C12) | L12: =IF(E12="","",E12) | M12: =IF(OR(F12="",G12="",J12=""),"",IF(F12=1,'Input 1 - Rules'!$D$5,IF('Calculation 1 - L Tbl Data'!J12=1,'Input 1 - Rules'!$D$7,'Input 1 - Rules'!$D$9))) | N12: =IF(OR(H12="",I12="",J12=""),"",IF(H12=1,'Input 1 - Rules'!$D$5,IF('Calculation 1 - L Tbl Data'!J12=1,'Input 1 - Rules'!$D$7,'Input 1 - Rules'!$D$9)))
B13: ='Input 3 - Fixtures'!E13 | C13: =IF('Input 3 - Fixtures'!F13="","",'Input 3 - Fixtures'!F13) | D13: ='Input 3 - Fixtures'!J13 | E13: =IF('Input 3 - Fixtures'!H13="","",'Input 3 - Fixtures'!H13) | F13: =IF(OR(C13="",E13=""),"",IF(C13>E13,1,0)) | G13: =IF(OR(C13="",E13=""),"",IF(E13>C13,1,0)) | H13: =IF(OR(C13="",E13=""),"",IF(E13>C13,1,0)) | I13: =IF(OR(C13="",E13=""),"",IF(C13>E13,1,0)) | J13: =IF(OR(C13="",E13=""),"",IF(C13=E13,1,0)) | K13: =IF(C13="","",C13) | L13: =IF(E13="","",E13) | M13: =IF(OR(F13="",G13="",J13=""),"",IF(F13=1,'Input 1 - Rules'!$D$5,IF('Calculation 1 - L Tbl Data'!J13=1,'Input 1 - Rules'!$D$7,'Input 1 - Rules'!$D$9))) | N13: =IF(OR(H13="",I13="",J13=""),"",IF(H13=1,'Input 1 - Rules'!$D$5,IF('Calculation 1 - L Tbl Data'!J13=1,'Input 1 - Rules'!$D$7,'Input 1 - Rules'!$D$9)))
B14: ='Input 3 - Fixtures'!E14 | C14: =IF('Input 3 - Fixtures'!F14="","",'Input 3 - Fixtures'!F14) | D14: ='Input 3 - Fixtures'!J14 | E14: =IF('Input 3 - Fixtures'!H14="","",'Input 3 - Fixtures'!H14) | F14: =IF(OR(C14="",E14=""),"",IF(C14>E14,1,0)) | G14: =IF(OR(C14="",E14=""),"",IF(E14>C14,1,0)) | H14: =IF(OR(C14="",E14=""),"",IF(E14>C14,1,0)) | I14: =IF(OR(C14="",E14=""),"",IF(C14>E14,1,0)) | J14: =IF(OR(C14="",E14=""),"",IF(C14=E14,1,0)) | K14: =IF(C14="","",C14) | L14: =IF(E14="","",E14) | M14: =IF(OR(F14="",G14="",J14=""),"",IF(F14=1,'Input 1 - Rules'!$D$5,IF('Calculation 1 - L Tbl Data'!J14=1,'Input 1 - Rules'!$D$7,'Input 1 - Rules'!$D$9))) | N14: =IF(OR(H14="",I14="",J14=""),"",IF(H14=1,'Input 1 - Rules'!$D$5,IF('Calculation 1 - L Tbl Data'!J14=1,'Input 1 - Rules'!$D$7,'Input 1 - Rules'!$D$9)))
B15: ='Input 3 - Fixtures'!E15 | C15: =IF('Input 3 - Fixtures'!F15="","",'Input 3 - Fixtures'!F15) | D15: ='Input 3 - Fixtures'!J15 | E15: =IF('Input 3 - Fixtures'!H15="","",'Input 3 - Fixtures'!H15) | F15: =IF(OR(C15="",E15=""),"",IF(C15>E15,1,0)) | G15: =IF(OR(C15="",E15=""),"",IF(E15>C15,1,0)) | H15: =IF(OR(C15="",E15=""),"",IF(E15>C15,1,0)) | I15: =IF(OR(C15="",E15=""),"",IF(C15>E15,1,0)) | J15: =IF(OR(C15="",E15=""),"",IF(C15=E15,1,0)) | K15: =IF(C15="","",C15) | L15: =IF(E15="","",E15) | M15: =IF(OR(F15="",G15="",J15=""),"",IF(F15=1,'Input 1 - Rules'!$D$5,IF('Calculation 1 - L Tbl Data'!J15=1,'Input 1 - Rules'!$D$7,'Input 1 - Rules'!$D$9))) | N15: =IF(OR(H15="",I15="",J15=""),"",IF(H15=1,'Input 1 - Rules'!$D$5,IF('Calculation 1 - L Tbl Data'!J15=1,'Input 1 - Rules'!$D$7,'Input 1 - Rules'!$D$9)))
B16: ='Input 3 - Fixtures'!E16 | C16: =IF('Input 3 - Fixtures'!F16="","",'Input 3 - Fixtures'!F16) | D16: ='Input 3 - Fixtures'!J16 | E16: =IF('Input 3 - Fixtures'!H16="","",'Input 3 - Fixtures'!H16) | F16: =IF(OR(C16="",E16=""),"",IF(C16>E16,1,0)) | G16: =IF(OR(C16="",E16=""),"",IF(E16>C16,1,0)) | H16: =IF(OR(C16="",E16=""),"",IF(E16>C16,1,0)) | I16: =IF(OR(C16="",E16=""),"",IF(C16>E16,1,0)) | J16: =IF(OR(C16="",E16=""),"",IF(C16=E16,1,0)) | K16: =IF(C16="","",C16) | L16: =IF(E16="","",E16) | M16: =IF(OR(F16="",G16="",J16=""),"",IF(F16=1,'Input 1 - Rules'!$D$5,IF('Calculation 1 - L Tbl Data'!J16=1,'Input 1 - Rules'!$D$7,'Input 1 - Rules'!$D$9))) | N16: =IF(OR(H16="",I16="",J16=""),"",IF(H16=1,'Input 1 - Rules'!$D$5,IF('Calculation 1 - L Tbl Data'!J16=1,'Input 1 - Rules'!$D$7,'Input 1 - Rules'!$D$9)))
... B94: ='Input 3 - Fixtures'!E94 | C94: =IF('Input 3 - Fixtures'!F94="","",'Input 3 - Fixtures'!F94) | D94: ='Input 3 - Fixtures'!J94 | E94: =IF('Input 3 - Fixtures'!H94="","",'Input 3 - Fixtures'!H94) | F94: =IF(OR(C94="",E94=""),"",IF(C94>E94,1,0)) | G94: =IF(OR(C94="",E94=""),"",IF(E94>C94,1,0)) | H94: =IF(OR(C94="",E94=""),"",IF(E94>C94,1,0)) | I94: =IF(OR(C94="",E94=""),"",IF(C94>E94,1,0)) | J94: =IF(OR(C94="",E94=""),"",IF(C94=E94,1,0)) | K94: =IF(C94="","",C94) | L94: =IF(E94="","",E94) | M94: =IF(OR(F94="",G94="",J94=""),"",IF(F94=1,'Input 1 - Rules'!$D$5,IF('Calculation 1 - L Tbl Data'!J94=1,'Input 1 - Rules'!$D$7,'Input 1 - Rules'!$D$9))) | N94: =IF(OR(H94="",I94="",J94=""),"",IF(H94=1,'Input 1 - Rules'!$D$5,IF('Calculation 1 - L Tbl Data'!J94=1,'Input 1 - Rules'!$D$7,'Input 1 - Rules'!$D$9)))

Sheet Calculation 2 - Prov Tbl Data
B2: Provisional Table Data
B4: Rank | C4: Team Weight | D4: Team Name | E4: Won | F4: Drawn | G4: Lost | H4: Goals For | I4: Goals Against | J4: Goal Difference | K4: Points | L4: League Score
B5: =RANK($L5,$L$5:$L$14) -> 1 | C5: 1e-11 | D5: ='Input 2 - Teams'!C5 -> 0 | E5: =IF($D5="","",SUMIF('Calculation 1 - L Tbl Data'!$B:$B,'Calculation 2 - Prov Tbl Data'!$D5,'Calculation 1 - L Tbl Data'!$F:$F)+SUMIF('Calculation 1 - L Tbl Data'!$D:$D,'Calculation 2 - Prov Tbl Data'!$D5,'Calculation 1 - L Tbl Data'!$H:$H)) -> 0 | F5: =IF($D5="","",SUMIF('Calculation 1 - L Tbl Data'!$B:$B,'Calculation 2 - Prov Tbl Data'!$D5,'Calculation 1 - L Tbl Data'!$J:$J)+SUMIF('Calculation 1 - L Tbl Data'!$D:$D,'Calculation 2 - Prov Tbl Data'!$D5,'Calculation 1 - L Tbl Data'!$J:$J)) -> 0 | G5: =IF($D5="","",SUMIF('Calculation 1 - L Tbl Data'!$B:$B,'Calculation 2 - Prov Tbl Data'!$D5,'Calculation 1 - L Tbl Data'!$G:$G)+SUMIF('Calculation 1 - L Tbl Data'!$D:$D,'Calculation 2 - Prov Tbl Data'!$D5,'Calculation 1 - L Tbl Data'!$I:$I)) -> 0 | H5: =IF($D5="","",SUMIF('Calculation 1 - L Tbl Data'!$B:$B,'Calculation 2 - Prov Tbl Data'!$D5,'Calculation 1 - L Tbl Data'!$K:$K)+SUMIF('Calculation 1 - L Tbl Data'!$D:$D,'Calculation 2 - Prov Tbl Data'!$D5,'Calculation 1 - L Tbl Data'!$L:$L)) -> 0 | I5: =IF($D5="","",SUMIF('Calculation 1 - L Tbl Data'!$B:$B,'Calculation 2 - Prov Tbl Data'!$D5,'Calculation 1 - L Tbl Data'!$L:$L)+SUMIF('Calculation 1 - L Tbl Data'!$D:$D,'Calculation 2 - Prov Tbl Data'!$D5,'Calculation 1 - L Tbl Data'!$K:$K)) -> 0 | J5: =IF($D5="","",$H5-$I5) -> 0 | K5: =IF($D5="","",SUMIF('Calculation 1 - L Tbl Data'!$B:$B,'Calculation 2 - Prov Tbl Data'!$D5,'Calculation 1 - L Tbl Data'!$M:$M)+SUMIF('Calculation 1 - L Tbl Data'!$D:$D,'Calculation 2 - Prov Tbl Data'!$D5,'Calculation 1 - L Tbl Data'!$N:$N)) -> 0 | L5: =IF($D5="","",SUM($K5+SUM($J5/100000)+$C5)) -> 1e-11
B6: =RANK($L6,$L$5:$L$14) -> 2 | C6: 9e-12 | D6: ='Input 2 - Teams'!C6 -> 0 | E6: =IF($D6="","",SUMIF('Calculation 1 - L Tbl Data'!$B:$B,'Calculation 2 - Prov Tbl Data'!$D6,'Calculation 1 - L Tbl Data'!$F:$F)+SUMIF('Calculation 1 - L Tbl Data'!$D:$D,'Calculation 2 - Prov Tbl Data'!$D6,'Calculation 1 - L Tbl Data'!$H:$H)) -> 0 | F6: =IF($D6="","",SUMIF('Calculation 1 - L Tbl Data'!$B:$B,'Calculation 2 - Prov Tbl Data'!$D6,'Calculation 1 - L Tbl Data'!$J:$J)+SUMIF('Calculation 1 - L Tbl Data'!$D:$D,'Calculation 2 - Prov Tbl Data'!$D6,'Calculation 1 - L Tbl Data'!$J:$J)) -> 0 | G6: =IF($D6="","",SUMIF('Calculation 1 - L Tbl Data'!$B:$B,'Calculation 2 - Prov Tbl Data'!$D6,'Calculation 1 - L Tbl Data'!$G:$G)+SUMIF('Calculation 1 - L Tbl Data'!$D:$D,'Calculation 2 - Prov Tbl Data'!$D6,'Calculation 1 - L Tbl Data'!$I:$I)) -> 0 | H6: =IF($D6="","",SUMIF('Calculation 1 - L Tbl Data'!$B:$B,'Calculation 2 - Prov Tbl Data'!$D6,'Calculation 1 - L Tbl Data'!$K:$K)+SUMIF('Calculation 1 - L Tbl Data'!$D:$D,'Calculation 2 - Prov Tbl Data'!$D6,'Calculation 1 - L Tbl Data'!$L:$L)) -> 0 | I6: =IF($D6="","",SUMIF('Calculation 1 - L Tbl Data'!$B:$B,'Calculation 2 - Prov Tbl Data'!$D6,'Calculation 1 - L Tbl Data'!$L:$L)+SUMIF('Calculation 1 - L Tbl Data'!$D:$D,'Calculation 2 - Prov Tbl Data'!$D6,'Calculation 1 - L Tbl Data'!$K:$K)) -> 0 | J6: =IF($D6="","",$H6-$I6) -> 0 | K6: =IF($D6="","",SUMIF('Calculation 1 - L Tbl Data'!$B:$B,'Calculation 2 - Prov Tbl Data'!$D6,'Calculation 1 - L Tbl Data'!$M:$M)+SUMIF('Calculation 1 - L Tbl Data'!$D:$D,'Calculation 2 - Prov Tbl Data'!$D6,'Calculation 1 - L Tbl Data'!$N:$N)) -> 0 | L6: =IF($D6="","",SUM($K6+SUM($J6/100000)+$C6)) -> 9e-12
B7: =RANK($L7,$L$5:$L$14) -> 3 | C7: 8e-12 | D7: ='Input 2 - Teams'!C7 -> 0 | E7: =IF($D7="","",SUMIF('Calculation 1 - L Tbl Data'!$B:$B,'Calculation 2 - Prov Tbl Data'!$D7,'Calculation 1 - L Tbl Data'!$F:$F)+SUMIF('Calculation 1 - L Tbl Data'!$D:$D,'Calculation 2 - Prov Tbl Data'!$D7,'Calculation 1 - L Tbl Data'!$H:$H)) -> 0 | F7: =IF($D7="","",SUMIF('Calculation 1 - L Tbl Data'!$B:$B,'Calculation 2 - Prov Tbl Data'!$D7,'Calculation 1 - L Tbl Data'!$J:$J)+SUMIF('Calculation 1 - L Tbl Data'!$D:$D,'Calculation 2 - Prov Tbl Data'!$D7,'Calculation 1 - L Tbl Data'!$J:$J)) -> 0 | G7: =IF($D7="","",SUMIF('Calculation 1 - L Tbl Data'!$B:$B,'Calculation 2 - Prov Tbl Data'!$D7,'Calculation 1 - L Tbl Data'!$G:$G)+SUMIF('Calculation 1 - L Tbl Data'!$D:$D,'Calculation 2 - Prov Tbl Data'!$D7,'Calculation 1 - L Tbl Data'!$I:$I)) -> 0 | H7: =IF($D7="","",SUMIF('Calculation 1 - L Tbl Data'!$B:$B,'Calculation 2 - Prov Tbl Data'!$D7,'Calculation 1 - L Tbl Data'!$K:$K)+SUMIF('Calculation 1 - L Tbl Data'!$D:$D,'Calculation 2 - Prov Tbl Data'!$D7,'Calculation 1 - L Tbl Data'!$L:$L)) -> 0 | I7: =IF($D7="","",SUMIF('Calculation 1 - L Tbl Data'!$B:$B,'Calculation 2 - Prov Tbl Data'!$D7,'Calculation 1 - L Tbl Data'!$L:$L)+SUMIF('Calculation 1 - L Tbl Data'!$D:$D,'Calculation 2 - Prov Tbl Data'!$D7,'Calculation 1 - L Tbl Data'!$K:$K)) -> 0 | J7: =IF($D7="","",$H7-$I7) -> 0 | K7: =IF($D7="","",SUMIF('Calculation 1 - L Tbl Data'!$B:$B,'Calculation 2 - Prov Tbl Data'!$D7,'Calculation 1 - L Tbl Data'!$M:$M)+SUMIF('Calculation 1 - L Tbl Data'!$D:$D,'Calculation 2 - Prov Tbl Data'!$D7,'Calculation 1 - L Tbl Data'!$N:$N)) -> 0 | L7: =IF($D7="","",SUM($K7+SUM($J7/100000)+$C7)) -> 8e-12
B8: =RANK($L8,$L$5:$L$14) -> 4 | C8: 7e-12 | D8: ='Input 2 - Teams'!C8 -> 0 | E8: =IF($D8="","",SUMIF('Calculation 1 - L Tbl Data'!$B:$B,'Calculation 2 - Prov Tbl Data'!$D8,'Calculation 1 - L Tbl Data'!$F:$F)+SUMIF('Calculation 1 - L Tbl Data'!$D:$D,'Calculation 2 - Prov Tbl Data'!$D8,'Calculation 1 - L Tbl Data'!$H:$H)) -> 0 | F8: =IF($D8="","",SUMIF('Calculation 1 - L Tbl Data'!$B:$B,'Calculation 2 - Prov Tbl Data'!$D8,'Calculation 1 - L Tbl Data'!$J:$J)+SUMIF('Calculation 1 - L Tbl Data'!$D:$D,'Calculation 2 - Prov Tbl Data'!$D8,'Calculation 1 - L Tbl Data'!$J:$J)) -> 0 | G8: =IF($D8="","",SUMIF('Calculation 1 - L Tbl Data'!$B:$B,'Calculation 2 - Prov Tbl Data'!$D8,'Calculation 1 - L Tbl Data'!$G:$G)+SUMIF('Calculation 1 - L Tbl Data'!$D:$D,'Calculation 2 - Prov Tbl Data'!$D8,'Calculation 1 - L Tbl Data'!$I:$I)) -> 0 | H8: =IF($D8="","",SUMIF('Calculation 1 - L Tbl Data'!$B:$B,'Calculation 2 - Prov Tbl Data'!$D8,'Calculation 1 - L Tbl Data'!$K:$K)+SUMIF('Calculation 1 - L Tbl Data'!$D:$D,'Calculation 2 - Prov Tbl Data'!$D8,'Calculation 1 - L Tbl Data'!$L:$L)) -> 0 | I8: =IF($D8="","",SUMIF('Calculation 1 - L Tbl Data'!$B:$B,'Calculation 2 - Prov Tbl Data'!$D8,'Calculation 1 - L Tbl Data'!$L:$L)+SUMIF('Calculation 1 - L Tbl Data'!$D:$D,'Calculation 2 - Prov Tbl Data'!$D8,'Calculation 1 - L Tbl Data'!$K:$K)) -> 0 | J8: =IF($D8="","",$H8-$I8) -> 0 | K8: =IF($D8="","",SUMIF('Calculation 1 - L Tbl Data'!$B:$B,'Calculation 2 - Prov Tbl Data'!$D8,'Calculation 1 - L Tbl Data'!$M:$M)+SUMIF('Calculation 1 - L Tbl Data'!$D:$D,'Calculation 2 - Prov Tbl Data'!$D8,'Calculation 1 - L Tbl Data'!$N:$N)) -> 0 | L8: =IF($D8="","",SUM($K8+SUM($J8/100000)+$C8)) -> 7e-12
B9: =RANK($L9,$L$5:$L$14) -> 5 | C9: 6e-12 | D9: ='Input 2 - Teams'!C9 -> 0 | E9: =IF($D9="","",SUMIF('Calculation 1 - L Tbl Data'!$B:$B,'Calculation 2 - Prov Tbl Data'!$D9,'Calculation 1 - L Tbl Data'!$F:$F)+SUMIF('Calculation 1 - L Tbl Data'!$D:$D,'Calculation 2 - Prov Tbl Data'!$D9,'Calculation 1 - L Tbl Data'!$H:$H)) -> 0 | F9: =IF($D9="","",SUMIF('Calculation 1 - L Tbl Data'!$B:$B,'Calculation 2 - Prov Tbl Data'!$D9,'Calculation 1 - L Tbl Data'!$J:$J)+SUMIF('Calculation 1 - L Tbl Data'!$D:$D,'Calculation 2 - Prov Tbl Data'!$D9,'Calculation 1 - L Tbl Data'!$J:$J)) -> 0 | G9: =IF($D9="","",SUMIF('Calculation 1 - L Tbl Data'!$B:$B,'Calculation 2 - Prov Tbl Data'!$D9,'Calculation 1 - L Tbl Data'!$G:$G)+SUMIF('Calculation 1 - L Tbl Data'!$D:$D,'Calculation 2 - Prov Tbl Data'!$D9,'Calculation 1 - L Tbl Data'!$I:$I)) -> 0 | H9: =IF($D9="","",SUMIF('Calculation 1 - L Tbl Data'!$B:$B,'Calculation 2 - Prov Tbl Data'!$D9,'Calculation 1 - L Tbl Data'!$K:$K)+SUMIF('Calculation 1 - L Tbl Data'!$D:$D,'Calculation 2 - Prov Tbl Data'!$D9,'Calculation 1 - L Tbl Data'!$L:$L)) -> 0 | I9: =IF($D9="","",SUMIF('Calculation 1 - L Tbl Data'!$B:$B,'Calculation 2 - Prov Tbl Data'!$D9,'Calculation 1 - L Tbl Data'!$L:$L)+SUMIF('Calculation 1 - L Tbl Data'!$D:$D,'Calculation 2 - Prov Tbl Data'!$D9,'Calculation 1 - L Tbl Data'!$K:$K)) -> 0 | J9: =IF($D9="","",$H9-$I9) -> 0 | K9: =IF($D9="","",SUMIF('Calculation 1 - L Tbl Data'!$B:$B,'Calculation 2 - Prov Tbl Data'!$D9,'Calculation 1 - L Tbl Data'!$M:$M)+SUMIF('Calculation 1 - L Tbl Data'!$D:$D,'Calculation 2 - Prov Tbl Data'!$D9,'Calculation 1 - L Tbl Data'!$N:$N)) -> 0 | L9: =IF($D9="","",SUM($K9+SUM($J9/100000)+$C9)) -> 6e-12
B10: =RANK($L10,$L$5:$L$14) -> 6 | C10: 5e-12 | D10: ='Input 2 - Teams'!C10 -> 0 | E10: =IF($D10="","",SUMIF('Calculation 1 - L Tbl Data'!$B:$B,'Calculation 2 - Prov Tbl Data'!$D10,'Calculation 1 - L Tbl Data'!$F:$F)+SUMIF('Calculation 1 - L Tbl Data'!$D:$D,'Calculation 2 - Prov Tbl Data'!$D10,'Calculation 1 - L Tbl Data'!$H:$H)) -> 0 | F10: =IF($D10="","",SUMIF('Calculation 1 - L Tbl Data'!$B:$B,'Calculation 2 - Prov Tbl Data'!$D10,'Calculation 1 - L Tbl Data'!$J:$J)+SUMIF('Calculation 1 - L Tbl Data'!$D:$D,'Calculation 2 - Prov Tbl Data'!$D10,'Calculation 1 - L Tbl Data'!$J:$J)) -> 0 | G10: =IF($D10="","",SUMIF('Calculation 1 - L Tbl Data'!$B:$B,'Calculation 2 - Prov Tbl Data'!$D10,'Calculation 1 - L Tbl Data'!$G:$G)+SUMIF('Calculation 1 - L Tbl Data'!$D:$D,'Calculation 2 - Prov Tbl Data'!$D10,'Calculation 1 - L Tbl Data'!$I:$I)) -> 0 | H10: =IF($D10="","",SUMIF('Calculation 1 - L Tbl Data'!$B:$B,'Calculation 2 - Prov Tbl Data'!$D10,'Calculation 1 - L Tbl Data'!$K:$K)+SUMIF('Calculation 1 - L Tbl Data'!$D:$D,'Calculation 2 - Prov Tbl Data'!$D10,'Calculation 1 - L Tbl Data'!$L:$L)) -> 0 | I10: =IF($D10="","",SUMIF('Calculation 1 - L Tbl Data'!$B:$B,'Calculation 2 - Prov Tbl Data'!$D10,'Calculation 1 - L Tbl Data'!$L:$L)+SUMIF('Calculation 1 - L Tbl Data'!$D:$D,'Calculation 2 - Prov Tbl Data'!$D10,'Calculation 1 - L Tbl Data'!$K:$K)) -> 0 | J10: =IF($D10="","",$H10-$I10) -> 0 | K10: =IF($D10="","",SUMIF('Calculation 1 - L Tbl Data'!$B:$B,'Calculation 2 - Prov Tbl Data'!$D10,'Calculation 1 - L Tbl Data'!$M:$M)+SUMIF('Calculation 1 - L Tbl Data'!$D:$D,'Calculation 2 - Prov Tbl Data'!$D10,'Calculation 1 - L Tbl Data'!$N:$N)) -> 0 | L10: =IF($D10="","",SUM($K10+SUM($J10/100000)+$C10)) -> 5e-12
B11: =RANK($L11,$L$5:$L$14) -> 7 | C11: 4e-12 | D11: ='Input 2 - Teams'!C11 -> 0 | E11: =IF($D11="","",SUMIF('Calculation 1 - L Tbl Data'!$B:$B,'Calculation 2 - Prov Tbl Data'!$D11,'Calculation 1 - L Tbl Data'!$F:$F)+SUMIF('Calculation 1 - L Tbl Data'!$D:$D,'Calculation 2 - Prov Tbl Data'!$D11,'Calculation 1 - L Tbl Data'!$H:$H)) -> 0 | F11: =IF($D11="","",SUMIF('Calculation 1 - L Tbl Data'!$B:$B,'Calculation 2 - Prov Tbl Data'!$D11,'Calculation 1 - L Tbl Data'!$J:$J)+SUMIF('Calculation 1 - L Tbl Data'!$D:$D,'Calculation 2 - Prov Tbl Data'!$D11,'Calculation 1 - L Tbl Data'!$J:$J)) -> 0 | G11: =IF($D11="","",SUMIF('Calculation 1 - L Tbl Data'!$B:$B,'Calculation 2 - Prov Tbl Data'!$D11,'Calculation 1 - L Tbl Data'!$G:$G)+SUMIF('Calculation 1 - L Tbl Data'!$D:$D,'Calculation 2 - Prov Tbl Data'!$D11,'Calculation 1 - L Tbl Data'!$I:$I)) -> 0 | H11: =IF($D11="","",SUMIF('Calculation 1 - L Tbl Data'!$B:$B,'Calculation 2 - Prov Tbl Data'!$D11,'Calculation 1 - L Tbl Data'!$K:$K)+SUMIF('Calculation 1 - L Tbl Data'!$D:$D,'Calculation 2 - Prov Tbl Data'!$D11,'Calculation 1 - L Tbl Data'!$L:$L)) -> 0 | I11: =IF($D11="","",SUMIF('Calculation 1 - L Tbl Data'!$B:$B,'Calculation 2 - Prov Tbl Data'!$D11,'Calculation 1 - L Tbl Data'!$L:$L)+SUMIF('Calculation 1 - L Tbl Data'!$D:$D,'Calculation 2 - Prov Tbl Data'!$D11,'Calculation 1 - L Tbl Data'!$K:$K)) -> 0 | J11: =IF($D11="","",$H11-$I11) -> 0 | K11: =IF($D11="","",SUMIF('Calculation 1 - L Tbl Data'!$B:$B,'Calculation 2 - Prov Tbl Data'!$D11,'Calculation 1 - L Tbl Data'!$M:$M)+SUMIF('Calculation 1 - L Tbl Data'!$D:$D,'Calculation 2 - Prov Tbl Data'!$D11,'Calculation 1 - L Tbl Data'!$N:$N)) -> 0 | L11: =IF($D11="","",SUM($K11+SUM($J11/100000)+$C11)) -> 4e-12
B12: =RANK($L12,$L$5:$L$14) -> 8 | C12: 3e-12 | D12: ='Input 2 - Teams'!C12 -> 0 | E12: =IF($D12="","",SUMIF('Calculation 1 - L Tbl Data'!$B:$B,'Calculation 2 - Prov Tbl Data'!$D12,'Calculation 1 - L Tbl Data'!$F:$F)+SUMIF('Calculation 1 - L Tbl Data'!$D:$D,'Calculation 2 - Prov Tbl Data'!$D12,'Calculation 1 - L Tbl Data'!$H:$H)) -> 0 | F12: =IF($D12="","",SUMIF('Calculation 1 - L Tbl Data'!$B:$B,'Calculation 2 - Prov Tbl Data'!$D12,'Calculation 1 - L Tbl Data'!$J:$J)+SUMIF('Calculation 1 - L Tbl Data'!$D:$D,'Calculation 2 - Prov Tbl Data'!$D12,'Calculation 1 - L Tbl Data'!$J:$J)) -> 0 | G12: =IF($D12="","",SUMIF('Calculation 1 - L Tbl Data'!$B:$B,'Calculation 2 - Prov Tbl Data'!$D12,'Calculation 1 - L Tbl Data'!$G:$G)+SUMIF('Calculation 1 - L Tbl Data'!$D:$D,'Calculation 2 - Prov Tbl Data'!$D12,'Calculation 1 - L Tbl Data'!$I:$I)) -> 0 | H12: =IF($D12="","",SUMIF('Calculation 1 - L Tbl Data'!$B:$B,'Calculation 2 - Prov Tbl Data'!$D12,'Calculation 1 - L Tbl Data'!$K:$K)+SUMIF('Calculation 1 - L Tbl Data'!$D:$D,'Calculation 2 - Prov Tbl Data'!$D12,'Calculation 1 - L Tbl Data'!$L:$L)) -> 0 | I12: =IF($D12="","",SUMIF('Calculation 1 - L Tbl Data'!$B:$B,'Calculation 2 - Prov Tbl Data'!$D12,'Calculation 1 - L Tbl Data'!$L:$L)+SUMIF('Calculation 1 - L Tbl Data'!$D:$D,'Calculation 2 - Prov Tbl Data'!$D12,'Calculation 1 - L Tbl Data'!$K:$K)) -> 0 | J12: =IF($D12="","",$H12-$I12) -> 0 | K12: =IF($D12="","",SUMIF('Calculation 1 - L Tbl Data'!$B:$B,'Calculation 2 - Prov Tbl Data'!$D12,'Calculation 1 - L Tbl Data'!$M:$M)+SUMIF('Calculation 1 - L Tbl Data'!$D:$D,'Calculation 2 - Prov Tbl Data'!$D12,'Calculation 1 - L Tbl Data'!$N:$N)) -> 0 | L12: =IF($D12="","",SUM($K12+SUM($J12/100000)+$C12)) -> 3e-12
B13: =RANK($L13,$L$5:$L$14) -> 9 | C13: 2e-12 | D13: ='Input 2 - Teams'!C13 -> 0 | E13: =IF($D13="","",SUMIF('Calculation 1 - L Tbl Data'!$B:$B,'Calculation 2 - Prov Tbl Data'!$D13,'Calculation 1 - L Tbl Data'!$F:$F)+SUMIF('Calculation 1 - L Tbl Data'!$D:$D,'Calculation 2 - Prov Tbl Data'!$D13,'Calculation 1 - L Tbl Data'!$H:$H)) -> 0 | F13: =IF($D13="","",SUMIF('Calculation 1 - L Tbl Data'!$B:$B,'Calculation 2 - Prov Tbl Data'!$D13,'Calculation 1 - L Tbl Data'!$J:$J)+SUMIF('Calculation 1 - L Tbl Data'!$D:$D,'Calculation 2 - Prov Tbl Data'!$D13,'Calculation 1 - L Tbl Data'!$J:$J)) -> 0 | G13: =IF($D13="","",SUMIF('Calculation 1 - L Tbl Data'!$B:$B,'Calculation 2 - Prov Tbl Data'!$D13,'Calculation 1 - L Tbl Data'!$G:$G)+SUMIF('Calculation 1 - L Tbl Data'!$D:$D,'Calculation 2 - Prov Tbl Data'!$D13,'Calculation 1 - L Tbl Data'!$I:$I)) -> 0 | H13: =IF($D13="","",SUMIF('Calculation 1 - L Tbl Data'!$B:$B,'Calculation 2 - Prov Tbl Data'!$D13,'Calculation 1 - L Tbl Data'!$K:$K)+SUMIF('Calculation 1 - L Tbl Data'!$D:$D,'Calculation 2 - Prov Tbl Data'!$D13,'Calculation 1 - L Tbl Data'!$L:$L)) -> 0 | I13: =IF($D13="","",SUMIF('Calculation 1 - L Tbl Data'!$B:$B,'Calculation 2 - Prov Tbl Data'!$D13,'Calculation 1 - L Tbl Data'!$L:$L)+SUMIF('Calculation 1 - L Tbl Data'!$D:$D,'Calculation 2 - Prov Tbl Data'!$D13,'Calculation 1 - L Tbl Data'!$K:$K)) -> 0 | J13: =IF($D13="","",$H13-$I13) -> 0 | K13: =IF($D13="","",SUMIF('Calculation 1 - L Tbl Data'!$B:$B,'Calculation 2 - Prov Tbl Data'!$D13,'Calculation 1 - L Tbl Data'!$M:$M)+SUMIF('Calculation 1 - L Tbl Data'!$D:$D,'Calculation 2 - Prov Tbl Data'!$D13,'Calculation 1 - L Tbl Data'!$N:$N)) -> 0 | L13: =IF($D13="","",SUM($K13+SUM($J13/100000)+$C13)) -> 2e-12
B14: =RANK($L14,$L$5:$L$14) -> 10 | C14: 1e-12 | D14: ='Input 2 - Teams'!C14 -> 0 | E14: =IF($D14="","",SUMIF('Calculation 1 - L Tbl Data'!$B:$B,'Calculation 2 - Prov Tbl Data'!$D14,'Calculation 1 - L Tbl Data'!$F:$F)+SUMIF('Calculation 1 - L Tbl Data'!$D:$D,'Calculation 2 - Prov Tbl Data'!$D14,'Calculation 1 - L Tbl Data'!$H:$H)) -> 0 | F14: =IF($D14="","",SUMIF('Calculation 1 - L Tbl Data'!$B:$B,'Calculation 2 - Prov Tbl Data'!$D14,'Calculation 1 - L Tbl Data'!$J:$J)+SUMIF('Calculation 1 - L Tbl Data'!$D:$D,'Calculation 2 - Prov Tbl Data'!$D14,'Calculation 1 - L Tbl Data'!$J:$J)) -> 0 | G14: =IF($D14="","",SUMIF('Calculation 1 - L Tbl Data'!$B:$B,'Calculation 2 - Prov Tbl Data'!$D14,'Calculation 1 - L Tbl Data'!$G:$G)+SUMIF('Calculation 1 - L Tbl Data'!$D:$D,'Calculation 2 - Prov Tbl Data'!$D14,'Calculation 1 - L Tbl Data'!$I:$I)) -> 0 | H14: =IF($D14="","",SUMIF('Calculation 1 - L Tbl Data'!$B:$B,'Calculation 2 - Prov Tbl Data'!$D14,'Calculation 1 - L Tbl Data'!$K:$K)+SUMIF('Calculation 1 - L Tbl Data'!$D:$D,'Calculation 2 - Prov Tbl Data'!$D14,'Calculation 1 - L Tbl Data'!$L:$L)) -> 0 | I14: =IF($D14="","",SUMIF('Calculation 1 - L Tbl Data'!$B:$B,'Calculation 2 - Prov Tbl Data'!$D14,'Calculation 1 - L Tbl Data'!$L:$L)+SUMIF('Calculation 1 - L Tbl Data'!$D:$D,'Calculation 2 - Prov Tbl Data'!$D14,'Calculation 1 - L Tbl Data'!$K:$K)) -> 0 | J14: =IF($D14="","",$H14-$I14) -> 0 | K14: =IF($D14="","",SUMIF('Calculation 1 - L Tbl Data'!$B:$B,'Calculation 2 - Prov Tbl Data'!$D14,'Calculation 1 - L Tbl Data'!$M:$M)+SUMIF('Calculation 1 - L Tbl Data'!$D:$D,'Calculation 2 - Prov Tbl Data'!$D14,'Calculation 1 - L Tbl Data'!$N:$N)) -> 0 | L14: =IF($D14="","",SUM($K14+SUM($J14/100000)+$C14)) -> 1e-12

Sheet Output 1 - League Table
C2: League Table
C4: Pos. | D4: Team Name | E4: Won | F4: Drawn | G4: Lost | H4: GF | I4: GA | J4: GD | K4: Points
C5: 1 | D5: =IF('Input 2 - Teams'!C5="","",IF(ISNA(VLOOKUP($C5,'Calculation 2 - Prov Tbl Data'!$B$5:$L$14,3,FALSE))=TRUE,"",VLOOKUP($C5,'Calculation 2 - Prov Tbl Data'!$B$5:$L$14,3,FALSE))) | E5: =IF('Input 2 - Teams'!C5="","",IF(ISNA(VLOOKUP($C5,'Calculation 2 - Prov Tbl Data'!$B$5:$L$14,4,FALSE))=TRUE,"",VLOOKUP($C5,'Calculation 2 - Prov Tbl Data'!$B$5:$L$14,4,FALSE))) | F5: =IF('Input 2 - Teams'!C5="","",IF(ISNA(VLOOKUP($C5,'Calculation 2 - Prov Tbl Data'!$B$5:$L$14,5,FALSE))=TRUE,"",VLOOKUP($C5,'Calculation 2 - Prov Tbl Data'!$B$5:$L$14,5,FALSE))) | G5: =IF('Input 2 - Teams'!C5="","",IF(ISNA(VLOOKUP($C5,'Calculation 2 - Prov Tbl Data'!$B$5:$L$14,6,FALSE))=TRUE,"",VLOOKUP($C5,'Calculation 2 - Prov Tbl Data'!$B$5:$L$14,6,FALSE))) | H5: =IF('Input 2 - Teams'!C5="","",IF(ISNA(VLOOKUP($C5,'Calculation 2 - Prov Tbl Data'!$B$5:$L$14,7,FALSE))=TRUE,"",VLOOKUP($C5,'Calculation 2 - Prov Tbl Data'!$B$5:$L$14,7,FALSE))) | I5: =IF('Input 2 - Teams'!C5="","",IF(ISNA(VLOOKUP($C5,'Calculation 2 - Prov Tbl Data'!$B$5:$L$14,8,FALSE))=TRUE,"",VLOOKUP($C5,'Calculation 2 - Prov Tbl Data'!$B$5:$L$14,8,FALSE))) | J5: =IF('Input 2 - Teams'!C5="","",IF(ISNA(VLOOKUP($C5,'Calculation 2 - Prov Tbl Data'!$B$5:$L$14,9,FALSE))=TRUE,"",VLOOKUP($C5,'Calculation 2 - Prov Tbl Data'!$B$5:$L$14,9,FALSE))) | K5: =IF('Input 2 - Teams'!C5="","",IF(ISNA(VLOOKUP($C5,'Calculation 2 - Prov Tbl Data'!$B$5:$L$14,10,FALSE))=TRUE,"",VLOOKUP($C5,'Calculation 2 - Prov Tbl Data'!$B$5:$L$14,10,FALSE)))
C6: 2 | D6: =IF('Input 2 - Teams'!C6="","",IF(ISNA(VLOOKUP($C6,'Calculation 2 - Prov Tbl Data'!$B$5:$L$14,3,FALSE))=TRUE,"",VLOOKUP($C6,'Calculation 2 - Prov Tbl Data'!$B$5:$L$14,3,FALSE))) | E6: =IF('Input 2 - Teams'!C6="","",IF(ISNA(VLOOKUP($C6,'Calculation 2 - Prov Tbl Data'!$B$5:$L$14,4,FALSE))=TRUE,"",VLOOKUP($C6,'Calculation 2 - Prov Tbl Data'!$B$5:$L$14,4,FALSE))) | F6: =IF('Input 2 - Teams'!C6="","",IF(ISNA(VLOOKUP($C6,'Calculation 2 - Prov Tbl Data'!$B$5:$L$14,5,FALSE))=TRUE,"",VLOOKUP($C6,'Calculation 2 - Prov Tbl Data'!$B$5:$L$14,5,FALSE))) | G6: =IF('Input 2 - Teams'!C6="","",IF(ISNA(VLOOKUP($C6,'Calculation 2 - Prov Tbl Data'!$B$5:$L$14,6,FALSE))=TRUE,"",VLOOKUP($C6,'Calculation 2 - Prov Tbl Data'!$B$5:$L$14,6,FALSE))) | H6: =IF('Input 2 - Teams'!C6="","",IF(ISNA(VLOOKUP($C6,'Calculation 2 - Prov Tbl Data'!$B$5:$L$14,7,FALSE))=TRUE,"",VLOOKUP($C6,'Calculation 2 - Prov Tbl Data'!$B$5:$L$14,7,FALSE))) | I6: =IF('Input 2 - Teams'!C6="","",IF(ISNA(VLOOKUP($C6,'Calculation 2 - Prov Tbl Data'!$B$5:$L$14,8,FALSE))=TRUE,"",VLOOKUP($C6,'Calculation 2 - Prov Tbl Data'!$B$5:$L$14,8,FALSE))) | J6: =IF('Input 2 - Teams'!C6="","",IF(ISNA(VLOOKUP($C6,'Calculation 2 - Prov Tbl Data'!$B$5:$L$14,9,FALSE))=TRUE,"",VLOOKUP($C6,'Calculation 2 - Prov Tbl Data'!$B$5:$L$14,9,FALSE))) | K6: =IF('Input 2 - Teams'!C6="","",IF(ISNA(VLOOKUP($C6,'Calculation 2 - Prov Tbl Data'!$B$5:$L$14,10,FALSE))=TRUE,"",VLOOKUP($C6,'Calculation 2 - Prov Tbl Data'!$B$5:$L$14,10,FALSE)))
C7: 3 | D7: =IF('Input 2 - Teams'!C7="","",IF(ISNA(VLOOKUP($C7,'Calculation 2 - Prov Tbl Data'!$B$5:$L$14,3,FALSE))=TRUE,"",VLOOKUP($C7,'Calculation 2 - Prov Tbl Data'!$B$5:$L$14,3,FALSE))) | E7: =IF('Input 2 - Teams'!C7="","",IF(ISNA(VLOOKUP($C7,'Calculation 2 - Prov Tbl Data'!$B$5:$L$14,4,FALSE))=TRUE,"",VLOOKUP($C7,'Calculation 2 - Prov Tbl Data'!$B$5:$L$14,4,FALSE))) | F7: =IF('Input 2 - Teams'!C7="","",IF(ISNA(VLOOKUP($C7,'Calculation 2 - Prov Tbl Data'!$B$5:$L$14,5,FALSE))=TRUE,"",VLOOKUP($C7,'Calculation 2 - Prov Tbl Data'!$B$5:$L$14,5,FALSE))) | G7: =IF('Input 2 - Teams'!C7="","",IF(ISNA(VLOOKUP($C7,'Calculation 2 - Prov Tbl Data'!$B$5:$L$14,6,FALSE))=TRUE,"",VLOOKUP($C7,'Calculation 2 - Prov Tbl Data'!$B$5:$L$14,6,FALSE))) | H7: =IF('Input 2 - Teams'!C7="","",IF(ISNA(VLOOKUP($C7,'Calculation 2 - Prov Tbl Data'!$B$5:$L$14,7,FALSE))=TRUE,"",VLOOKUP($C7,'Calculation 2 - Prov Tbl Data'!$B$5:$L$14,7,FALSE))) | I7: =IF('Input 2 - Teams'!C7="","",IF(ISNA(VLOOKUP($C7,'Calculation 2 - Prov Tbl Data'!$B$5:$L$14,8,FALSE))=TRUE,"",VLOOKUP($C7,'Calculation 2 - Prov Tbl Data'!$B$5:$L$14,8,FALSE))) | J7: =IF('Input 2 - Teams'!C7="","",IF(ISNA(VLOOKUP($C7,'Calculation 2 - Prov Tbl Data'!$B$5:$L$14,9,FALSE))=TRUE,"",VLOOKUP($C7,'Calculation 2 - Prov Tbl Data'!$B$5:$L$14,9,FALSE))) | K7: =IF('Input 2 - Teams'!C7="","",IF(ISNA(VLOOKUP($C7,'Calculation 2 - Prov Tbl Data'!$B$5:$L$14,10,FALSE))=TRUE,"",VLOOKUP($C7,'Calculation 2 - Prov Tbl Data'!$B$5:$L$14,10,FALSE)))
C8: 4 | D8: =IF('Input 2 - Teams'!C8="","",IF(ISNA(VLOOKUP($C8,'Calculation 2 - Prov Tbl Data'!$B$5:$L$14,3,FALSE))=TRUE,"",VLOOKUP($C8,'Calculation 2 - Prov Tbl Data'!$B$5:$L$14,3,FALSE))) | E8: =IF('Input 2 - Teams'!C8="","",IF(ISNA(VLOOKUP($C8,'Calculation 2 - Prov Tbl Data'!$B$5:$L$14,4,FALSE))=TRUE,"",VLOOKUP($C8,'Calculation 2 - Prov Tbl Data'!$B$5:$L$14,4,FALSE))) | F8: =IF('Input 2 - Teams'!C8="","",IF(ISNA(VLOOKUP($C8,'Calculation 2 - Prov Tbl Data'!$B$5:$L$14,5,FALSE))=TRUE,"",VLOOKUP($C8,'Calculation 2 - Prov Tbl Data'!$B$5:$L$14,5,FALSE))) | G8: =IF('Input 2 - Teams'!C8="","",IF(ISNA(VLOOKUP($C8,'Calculation 2 - Prov Tbl Data'!$B$5:$L$14,6,FALSE))=TRUE,"",VLOOKUP($C8,'Calculation 2 - Prov Tbl Data'!$B$5:$L$14,6,FALSE))) | H8: =IF('Input 2 - Teams'!C8="","",IF(ISNA(VLOOKUP($C8,'Calculation 2 - Prov Tbl Data'!$B$5:$L$14,7,FALSE))=TRUE,"",VLOOKUP($C8,'Calculation 2 - Prov Tbl Data'!$B$5:$L$14,7,FALSE))) | I8: =IF('Input 2 - Teams'!C8="","",IF(ISNA(VLOOKUP($C8,'Calculation 2 - Prov Tbl Data'!$B$5:$L$14,8,FALSE))=TRUE,"",VLOOKUP($C8,'Calculation 2 - Prov Tbl Data'!$B$5:$L$14,8,FALSE))) | J8: =IF('Input 2 - Teams'!C8="","",IF(ISNA(VLOOKUP($C8,'Calculation 2 - Prov Tbl Data'!$B$5:$L$14,9,FALSE))=TRUE,"",VLOOKUP($C8,'Calculation 2 - Prov Tbl Data'!$B$5:$L$14,9,FALSE))) | K8: =IF('Input 2 - Teams'!C8="","",IF(ISNA(VLOOKUP($C8,'Calculation 2 - Prov Tbl Data'!$B$5:$L$14,10,FALSE))=TRUE,"",VLOOKUP($C8,'Calculation 2 - Prov Tbl Data'!$B$5:$L$14,10,FALSE)))
C9: 5 | D9: =IF('Input 2 - Teams'!C9="","",IF(ISNA(VLOOKUP($C9,'Calculation 2 - Prov Tbl Data'!$B$5:$L$14,3,FALSE))=TRUE,"",VLOOKUP($C9,'Calculation 2 - Prov Tbl Data'!$B$5:$L$14,3,FALSE))) | E9: =IF('Input 2 - Teams'!C9="","",IF(ISNA(VLOOKUP($C9,'Calculation 2 - Prov Tbl Data'!$B$5:$L$14,4,FALSE))=TRUE,"",VLOOKUP($C9,'Calculation 2 - Prov Tbl Data'!$B$5:$L$14,4,FALSE))) | F9: =IF('Input 2 - Teams'!C9="","",IF(ISNA(VLOOKUP($C9,'Calculation 2 - Prov Tbl Data'!$B$5:$L$14,5,FALSE))=TRUE,"",VLOOKUP($C9,'Calculation 2 - Prov Tbl Data'!$B$5:$L$14,5,FALSE))) | G9: =IF('Input 2 - Teams'!C9="","",IF(ISNA(VLOOKUP($C9,'Calculation 2 - Prov Tbl Data'!$B$5:$L$14,6,FALSE))=TRUE,"",VLOOKUP($C9,'Calculation 2 - Prov Tbl Data'!$B$5:$L$14,6,FALSE))) | H9: =IF('Input 2 - Teams'!C9="","",IF(ISNA(VLOOKUP($C9,'Calculation 2 - Prov Tbl Data'!$B$5:$L$14,7,FALSE))=TRUE,"",VLOOKUP($C9,'Calculation 2 - Prov Tbl Data'!$B$5:$L$14,7,FALSE))) | I9: =IF('Input 2 - Teams'!C9="","",IF(ISNA(VLOOKUP($C9,'Calculation 2 - Prov Tbl Data'!$B$5:$L$14,8,FALSE))=TRUE,"",VLOOKUP($C9,'Calculation 2 - Prov Tbl Data'!$B$5:$L$14,8,FALSE))) | J9: =IF('Input 2 - Teams'!C9="","",IF(ISNA(VLOOKUP($C9,'Calculation 2 - Prov Tbl Data'!$B$5:$L$14,9,FALSE))=TRUE,"",VLOOKUP($C9,'Calculation 2 - Prov Tbl Data'!$B$5:$L$14,9,FALSE))) | K9: =IF('Input 2 - Teams'!C9="","",IF(ISNA(VLOOKUP($C9,'Calculation 2 - Prov Tbl Data'!$B$5:$L$14,10,FALSE))=TRUE,"",VLOOKUP($C9,'Calculation 2 - Prov Tbl Data'!$B$5:$L$14,10,FALSE)))
C10: 6 | D10: =IF('Input 2 - Teams'!C10="","",IF(ISNA(VLOOKUP($C10,'Calculation 2 - Prov Tbl Data'!$B$5:$L$14,3,FALSE))=TRUE,"",VLOOKUP($C10,'Calculation 2 - Prov Tbl Data'!$B$5:$L$14,3,FALSE))) | E10: =IF('Input 2 - Teams'!C10="","",IF(ISNA(VLOOKUP($C10,'Calculation 2 - Prov Tbl Data'!$B$5:$L$14,4,FALSE))=TRUE,"",VLOOKUP($C10,'Calculation 2 - Prov Tbl Data'!$B$5:$L$14,4,FALSE))) | F10: =IF('Input 2 - Teams'!C10="","",IF(ISNA(VLOOKUP($C10,'Calculation 2 - Prov Tbl Data'!$B$5:$L$14,5,FALSE))=TRUE,"",VLOOKUP($C10,'Calculation 2 - Prov Tbl Data'!$B$5:$L$14,5,FALSE))) | G10: =IF('Input 2 - Teams'!C10="","",IF(ISNA(VLOOKUP($C10,'Calculation 2 - Prov Tbl Data'!$B$5:$L$14,6,FALSE))=TRUE,"",VLOOKUP($C10,'Calculation 2 - Prov Tbl Data'!$B$5:$L$14,6,FALSE))) | H10: =IF('Input 2 - Teams'!C10="","",IF(ISNA(VLOOKUP($C10,'Calculation 2 - Prov Tbl Data'!$B$5:$L$14,7,FALSE))=TRUE,"",VLOOKUP($C10,'Calculation 2 - Prov Tbl Data'!$B$5:$L$14,7,FALSE))) | I10: =IF('Input 2 - Teams'!C10="","",IF(ISNA(VLOOKUP($C10,'Calculation 2 - Prov Tbl Data'!$B$5:$L$14,8,FALSE))=TRUE,"",VLOOKUP($C10,'Calculation 2 - Prov Tbl Data'!$B$5:$L$14,8,FALSE))) | J10: =IF('Input 2 - Teams'!C10="","",IF(ISNA(VLOOKUP($C10,'Calculation 2 - Prov Tbl Data'!$B$5:$L$14,9,FALSE))=TRUE,"",VLOOKUP($C10,'Calculation 2 - Prov Tbl Data'!$B$5:$L$14,9,FALSE))) | K10: =IF('Input 2 - Teams'!C10="","",IF(ISNA(VLOOKUP($C10,'Calculation 2 - Prov Tbl Data'!$B$5:$L$14,10,FALSE))=TRUE,"",VLOOKUP($C10,'Calculation 2 - Prov Tbl Data'!$B$5:$L$14,10,FALSE)))
C11: 7 | D11: =IF('Input 2 - Teams'!C11="","",IF(ISNA(VLOOKUP($C11,'Calculation 2 - Prov Tbl Data'!$B$5:$L$14,3,FALSE))=TRUE,"",VLOOKUP($C11,'Calculation 2 - Prov Tbl Data'!$B$5:$L$14,3,FALSE))) | E11: =IF('Input 2 - Teams'!C11="","",IF(ISNA(VLOOKUP($C11,'Calculation 2 - Prov Tbl Data'!$B$5:$L$14,4,FALSE))=TRUE,"",VLOOKUP($C11,'Calculation 2 - Prov Tbl Data'!$B$5:$L$14,4,FALSE))) | F11: =IF('Input 2 - Teams'!C11="","",IF(ISNA(VLOOKUP($C11,'Calculation 2 - Prov Tbl Data'!$B$5:$L$14,5,FALSE))=TRUE,"",VLOOKUP($C11,'Calculation 2 - Prov Tbl Data'!$B$5:$L$14,5,FALSE))) | G11: =IF('Input 2 - Teams'!C11="","",IF(ISNA(VLOOKUP($C11,'Calculation 2 - Prov Tbl Data'!$B$5:$L$14,6,FALSE))=TRUE,"",VLOOKUP($C11,'Calculation 2 - Prov Tbl Data'!$B$5:$L$14,6,FALSE))) | H11: =IF('Input 2 - Teams'!C11="","",IF(ISNA(VLOOKUP($C11,'Calculation 2 - Prov Tbl Data'!$B$5:$L$14,7,FALSE))=TRUE,"",VLOOKUP($C11,'Calculation 2 - Prov Tbl Data'!$B$5:$L$14,7,FALSE))) | I11: =IF('Input 2 - Teams'!C11="","",IF(ISNA(VLOOKUP($C11,'Calculation 2 - Prov Tbl Data'!$B$5:$L$14,8,FALSE))=TRUE,"",VLOOKUP($C11,'Calculation 2 - Prov Tbl Data'!$B$5:$L$14,8,FALSE))) | J11: =IF('Input 2 - Teams'!C11="","",IF(ISNA(VLOOKUP($C11,'Calculation 2 - Prov Tbl Data'!$B$5:$L$14,9,FALSE))=TRUE,"",VLOOKUP($C11,'Calculation 2 - Prov Tbl Data'!$B$5:$L$14,9,FALSE))) | K11: =IF('Input 2 - Teams'!C11="","",IF(ISNA(VLOOKUP($C11,'Calculation 2 - Prov Tbl Data'!$B$5:$L$14,10,FALSE))=TRUE,"",VLOOKUP($C11,'Calculation 2 - Prov Tbl Data'!$B$5:$L$14,10,FALSE)))
C12: 8 | D12: =IF('Input 2 - Teams'!C12="","",IF(ISNA(VLOOKUP($C12,'Calculation 2 - Prov Tbl Data'!$B$5:$L$14,3,FALSE))=TRUE,"",VLOOKUP($C12,'Calculation 2 - Prov Tbl Data'!$B$5:$L$14,3,FALSE))) | E12: =IF('Input 2 - Teams'!C12="","",IF(ISNA(VLOOKUP($C12,'Calculation 2 - Prov Tbl Data'!$B$5:$L$14,4,FALSE))=TRUE,"",VLOOKUP($C12,'Calculation 2 - Prov Tbl Data'!$B$5:$L$14,4,FALSE))) | F12: =IF('Input 2 - Teams'!C12="","",IF(ISNA(VLOOKUP($C12,'Calculation 2 - Prov Tbl Data'!$B$5:$L$14,5,FALSE))=TRUE,"",VLOOKUP($C12,'Calculation 2 - Prov Tbl Data'!$B$5:$L$14,5,FALSE))) | G12: =IF('Input 2 - Teams'!C12="","",IF(ISNA(VLOOKUP($C12,'Calculation 2 - Prov Tbl Data'!$B$5:$L$14,6,FALSE))=TRUE,"",VLOOKUP($C12,'Calculation 2 - Prov Tbl Data'!$B$5:$L$14,6,FALSE))) | H12: =IF('Input 2 - Teams'!C12="","",IF(ISNA(VLOOKUP($C12,'Calculation 2 - Prov Tbl Data'!$B$5:$L$14,7,FALSE))=TRUE,"",VLOOKUP($C12,'Calculation 2 - Prov Tbl Data'!$B$5:$L$14,7,FALSE))) | I12: =IF('Input 2 - Teams'!C12="","",IF(ISNA(VLOOKUP($C12,'Calculation 2 - Prov Tbl Data'!$B$5:$L$14,8,FALSE))=TRUE,"",VLOOKUP($C12,'Calculation 2 - Prov Tbl Data'!$B$5:$L$14,8,FALSE))) | J12: =IF('Input 2 - Teams'!C12="","",IF(ISNA(VLOOKUP($C12,'Calculation 2 - Prov Tbl Data'!$B$5:$L$14,9,FALSE))=TRUE,"",VLOOKUP($C12,'Calculation 2 - Prov Tbl Data'!$B$5:$L$14,9,FALSE))) | K12: =IF('Input 2 - Teams'!C12="","",IF(ISNA(VLOOKUP($C12,'Calculation 2 - Prov Tbl Data'!$B$5:$L$14,10,FALSE))=TRUE,"",VLOOKUP($C12,'Calculation 2 - Prov Tbl Data'!$B$5:$L$14,10,FALSE)))
C13: 9 | D13: =IF('Input 2 - Teams'!C13="","",IF(ISNA(VLOOKUP($C13,'Calculation 2 - Prov Tbl Data'!$B$5:$L$14,3,FALSE))=TRUE,"",VLOOKUP($C13,'Calculation 2 - Prov Tbl Data'!$B$5:$L$14,3,FALSE))) | E13: =IF('Input 2 - Teams'!C13="","",IF(ISNA(VLOOKUP($C13,'Calculation 2 - Prov Tbl Data'!$B$5:$L$14,4,FALSE))=TRUE,"",VLOOKUP($C13,'Calculation 2 - Prov Tbl Data'!$B$5:$L$14,4,FALSE))) | F13: =IF('Input 2 - Teams'!C13="","",IF(ISNA(VLOOKUP($C13,'Calculation 2 - Prov Tbl Data'!$B$5:$L$14,5,FALSE))=TRUE,"",VLOOKUP($C13,'Calculation 2 - Prov Tbl Data'!$B$5:$L$14,5,FALSE))) | G13: =IF('Input 2 - Teams'!C13="","",IF(ISNA(VLOOKUP($C13,'Calculation 2 - Prov Tbl Data'!$B$5:$L$14,6,FALSE))=TRUE,"",VLOOKUP($C13,'Calculation 2 - Prov Tbl Data'!$B$5:$L$14,6,FALSE))) | H13: =IF('Input 2 - Teams'!C13="","",IF(ISNA(VLOOKUP($C13,'Calculation 2 - Prov Tbl Data'!$B$5:$L$14,7,FALSE))=TRUE,"",VLOOKUP($C13,'Calculation 2 - Prov Tbl Data'!$B$5:$L$14,7,FALSE))) | I13: =IF('Input 2 - Teams'!C13="","",IF(ISNA(VLOOKUP($C13,'Calculation 2 - Prov Tbl Data'!$B$5:$L$14,8,FALSE))=TRUE,"",VLOOKUP($C13,'Calculation 2 - Prov Tbl Data'!$B$5:$L$14,8,FALSE))) | J13: =IF('Input 2 - Teams'!C13="","",IF(ISNA(VLOOKUP($C13,'Calculation 2 - Prov Tbl Data'!$B$5:$L$14,9,FALSE))=TRUE,"",VLOOKUP($C13,'Calculation 2 - Prov Tbl Data'!$B$5:$L$14,9,FALSE))) | K13: =IF('Input 2 - Teams'!C13="","",IF(ISNA(VLOOKUP($C13,'Calculation 2 - Prov Tbl Data'!$B$5:$L$14,10,FALSE))=TRUE,"",VLOOKUP($C13,'Calculation 2 - Prov Tbl Data'!$B$5:$L$14,10,FALSE)))
C14: 10 | D14: =IF('Input 2 - Teams'!C14="","",IF(ISNA(VLOOKUP($C14,'Calculation 2 - Prov Tbl Data'!$B$5:$L$14,3,FALSE))=TRUE,"",VLOOKUP($C14,'Calculation 2 - Prov Tbl Data'!$B$5:$L$14,3,FALSE))) | E14: =IF('Input 2 - Teams'!C14="","",IF(ISNA(VLOOKUP($C14,'Calculation 2 - Prov Tbl Data'!$B$5:$L$14,4,FALSE))=TRUE,"",VLOOKUP($C14,'Calculation 2 - Prov Tbl Data'!$B$5:$L$14,4,FALSE))) | F14: =IF('Input 2 - Teams'!C14="","",IF(ISNA(VLOOKUP($C14,'Calculation 2 - Prov Tbl Data'!$B$5:$L$14,5,FALSE))=TRUE,"",VLOOKUP($C14,'Calculation 2 - Prov Tbl Data'!$B$5:$L$14,5,FALSE))) | G14: =IF('Input 2 - Teams'!C14="","",IF(ISNA(VLOOKUP($C14,'Calculation 2 - Prov Tbl Data'!$B$5:$L$14,6,FALSE))=TRUE,"",VLOOKUP($C14,'Calculation 2 - Prov Tbl Data'!$B$5:$L$14,6,FALSE))) | H14: =IF('Input 2 - Teams'!C14="","",IF(ISNA(VLOOKUP($C14,'Calculation 2 - Prov Tbl Data'!$B$5:$L$14,7,FALSE))=TRUE,"",VLOOKUP($C14,'Calculation 2 - Prov Tbl Data'!$B$5:$L$14,7,FALSE))) | I14: =IF('Input 2 - Teams'!C14="","",IF(ISNA(VLOOKUP($C14,'Calculation 2 - Prov Tbl Data'!$B$5:$L$14,8,FALSE))=TRUE,"",VLOOKUP($C14,'Calculation 2 - Prov Tbl Data'!$B$5:$L$14,8,FALSE))) | J14: =IF('Input 2 - Teams'!C14="","",IF(ISNA(VLOOKUP($C14,'Calculation 2 - Prov Tbl Data'!$B$5:$L$14,9,FALSE))=TRUE,"",VLOOKUP($C14,'Calculation 2 - Prov Tbl Data'!$B$5:$L$14,9,FALSE))) | K14: =IF('Input 2 - Teams'!C14="","",IF(ISNA(VLOOKUP($C14,'Calculation 2 - Prov Tbl Data'!$B$5:$L$14,10,FALSE))=TRUE,"",VLOOKUP($C14,'Calculation 2 - Prov Tbl Data'!$B$5:$L$14,10,FALSE)))
